BEGIN:VCALENDAR
VERSION:2.0
PRODID:-//My Farmers Market - ECPv6.15.12.2//NONSGML v1.0//EN
CALSCALE:GREGORIAN
METHOD:PUBLISH
X-WR-CALNAME:My Farmers Market
X-ORIGINAL-URL:http://www.myfarmersmarket.co.uk
X-WR-CALDESC:Events for My Farmers Market
REFRESH-INTERVAL;VALUE=DURATION:PT1H
X-Robots-Tag:noindex
X-PUBLISHED-TTL:PT1H
BEGIN:VTIMEZONE
TZID:UTC
BEGIN:STANDARD
TZOFFSETFROM:+0000
TZOFFSETTO:+0000
TZNAME:UTC
DTSTART:20200101T000000
END:STANDARD
END:VTIMEZONE
BEGIN:VEVENT
DTSTART;TZID=UTC:20231119T100000
DTEND;TZID=UTC:20231119T140000
DTSTAMP:20260424T093412
CREATED:20230814T100058Z
LAST-MODIFIED:20230814T100058Z
UID:7286-1700388000-1700402400@www.myfarmersmarket.co.uk
SUMMARY:Chislehurst Farmers Market
DESCRIPTION:Hornbrook House Car Park\, High Street\, Chislehurst BR7 5AB
URL:http://www.myfarmersmarket.co.uk/market/chislehurst-farmers-market-79/
CATEGORIES:Chislehurst Farmers Market
END:VEVENT
BEGIN:VEVENT
DTSTART;TZID=UTC:20231015T100000
DTEND;TZID=UTC:20231015T140000
DTSTAMP:20260424T093412
CREATED:20230814T100000Z
LAST-MODIFIED:20230814T100000Z
UID:7284-1697364000-1697378400@www.myfarmersmarket.co.uk
SUMMARY:Chislehurst Farmers Market
DESCRIPTION:Hornbrook House Car Park\, High Street\, Chislehurst BR7 5AB
URL:http://www.myfarmersmarket.co.uk/market/chislehurst-farmers-market-78/
CATEGORIES:Chislehurst Farmers Market
END:VEVENT
BEGIN:VEVENT
DTSTART;TZID=UTC:20230917T100000
DTEND;TZID=UTC:20230917T140000
DTSTAMP:20260424T093412
CREATED:20230814T095900Z
LAST-MODIFIED:20230814T095900Z
UID:7282-1694944800-1694959200@www.myfarmersmarket.co.uk
SUMMARY:Chislehurst Farmers Market
DESCRIPTION:Hornbrook House Car Park\, High Street\, Chislehurst BR7 5AB
URL:http://www.myfarmersmarket.co.uk/market/chislehurst-farmers-market-77/
CATEGORIES:Chislehurst Farmers Market
END:VEVENT
BEGIN:VEVENT
DTSTART;TZID=UTC:20230820T100000
DTEND;TZID=UTC:20230820T140000
DTSTAMP:20260424T093412
CREATED:20230723T171155Z
LAST-MODIFIED:20230723T171155Z
UID:7205-1692525600-1692540000@www.myfarmersmarket.co.uk
SUMMARY:Chislehurst Farmers Market
DESCRIPTION:Hornbrook House Car Park\, High Street\, Chislehurst BR7 5AB
URL:http://www.myfarmersmarket.co.uk/market/chislehurst-farmers-market-76/
CATEGORIES:Chislehurst Farmers Market
END:VEVENT
BEGIN:VEVENT
DTSTART;TZID=UTC:20230716T100000
DTEND;TZID=UTC:20230716T140000
DTSTAMP:20260424T093412
CREATED:20230723T171034Z
LAST-MODIFIED:20230723T171034Z
UID:7203-1689501600-1689516000@www.myfarmersmarket.co.uk
SUMMARY:Chislehurst Farmers Market
DESCRIPTION:Hornbrook House Car Park\, High Street\, Chislehurst BR7 5AB
URL:http://www.myfarmersmarket.co.uk/market/chislehurst-farmers-market-75/
CATEGORIES:Chislehurst Farmers Market
END:VEVENT
BEGIN:VEVENT
DTSTART;TZID=UTC:20230618T100000
DTEND;TZID=UTC:20230618T140000
DTSTAMP:20260424T093412
CREATED:20221219T162313Z
LAST-MODIFIED:20221219T162313Z
UID:6840-1687082400-1687096800@www.myfarmersmarket.co.uk
SUMMARY:Chislehurst Farmers Market
DESCRIPTION:Hornbrook House Car Park\, High Street\, Chislehurst BR7 5AB
URL:http://www.myfarmersmarket.co.uk/market/chislehurst-farmers-market-74/
CATEGORIES:Chislehurst Farmers Market
END:VEVENT
BEGIN:VEVENT
DTSTART;TZID=UTC:20230521T100000
DTEND;TZID=UTC:20230521T140000
DTSTAMP:20260424T093412
CREATED:20221219T162211Z
LAST-MODIFIED:20221219T162211Z
UID:6838-1684663200-1684677600@www.myfarmersmarket.co.uk
SUMMARY:Chislehurst Farmers Market
DESCRIPTION:Hornbrook House Car Park\, High Street\, Chislehurst BR7 5AB
URL:http://www.myfarmersmarket.co.uk/market/chislehurst-farmers-market-73/
CATEGORIES:Chislehurst Farmers Market
END:VEVENT
BEGIN:VEVENT
DTSTART;TZID=UTC:20230416T100000
DTEND;TZID=UTC:20230416T140000
DTSTAMP:20260424T093412
CREATED:20221219T162118Z
LAST-MODIFIED:20221219T162118Z
UID:6836-1681639200-1681653600@www.myfarmersmarket.co.uk
SUMMARY:Chislehurst Farmers Market
DESCRIPTION:Hornbrook House Car Park\, High Street\, Chislehurst BR7 5AB
URL:http://www.myfarmersmarket.co.uk/market/chislehurst-farmers-market-72/
CATEGORIES:Chislehurst Farmers Market
END:VEVENT
BEGIN:VEVENT
DTSTART;TZID=UTC:20230319T100000
DTEND;TZID=UTC:20230319T140000
DTSTAMP:20260424T093412
CREATED:20221219T161958Z
LAST-MODIFIED:20221219T162022Z
UID:6834-1679220000-1679234400@www.myfarmersmarket.co.uk
SUMMARY:Chislehurst Farmers Market
DESCRIPTION:Hornbrook House Car Park\, High Street\, Chislehurst BR7 5AB
URL:http://www.myfarmersmarket.co.uk/market/chislehurst-farmers-market-71/
CATEGORIES:Chislehurst Farmers Market
END:VEVENT
BEGIN:VEVENT
DTSTART;TZID=UTC:20230219T100000
DTEND;TZID=UTC:20230219T140000
DTSTAMP:20260424T093412
CREATED:20221219T161903Z
LAST-MODIFIED:20221219T161903Z
UID:6832-1676800800-1676815200@www.myfarmersmarket.co.uk
SUMMARY:Chislehurst Farmers Market
DESCRIPTION:Hornbrook House Car Park\, High Street\, Chislehurst BR7 5AB
URL:http://www.myfarmersmarket.co.uk/market/chislehurst-farmers-market-70/
CATEGORIES:Chislehurst Farmers Market
END:VEVENT
BEGIN:VEVENT
DTSTART;TZID=UTC:20230115T100000
DTEND;TZID=UTC:20230115T140000
DTSTAMP:20260424T093412
CREATED:20221219T161806Z
LAST-MODIFIED:20221219T161806Z
UID:6830-1673776800-1673791200@www.myfarmersmarket.co.uk
SUMMARY:Chislehurst Farmers Market
DESCRIPTION:Hornbrook House Car Park\, High Street\, Chislehurst BR7 5AB
URL:http://www.myfarmersmarket.co.uk/market/chislehurst-farmers-market-69/
CATEGORIES:Chislehurst Farmers Market
END:VEVENT
BEGIN:VEVENT
DTSTART;TZID=UTC:20221218T100000
DTEND;TZID=UTC:20221218T140000
DTSTAMP:20260424T093412
CREATED:20220523T160923Z
LAST-MODIFIED:20220523T160923Z
UID:6503-1671357600-1671372000@www.myfarmersmarket.co.uk
SUMMARY:Chislehurst Farmers Market
DESCRIPTION:Hornbrook House Car Park\, High Street\, Chislehurst BR7 5AB
URL:http://www.myfarmersmarket.co.uk/market/chislehurst-farmers-market-68/
CATEGORIES:Chislehurst Farmers Market
END:VEVENT
BEGIN:VEVENT
DTSTART;TZID=UTC:20221120T100000
DTEND;TZID=UTC:20221120T140000
DTSTAMP:20260424T093412
CREATED:20220523T160831Z
LAST-MODIFIED:20220523T160831Z
UID:6501-1668938400-1668952800@www.myfarmersmarket.co.uk
SUMMARY:Chislehurst Farmers Market
DESCRIPTION:Hornbrook House Car Park\, High Street\, Chislehurst BR7 5AB
URL:http://www.myfarmersmarket.co.uk/market/chislehurst-farmers-market-67/
CATEGORIES:Chislehurst Farmers Market
END:VEVENT
BEGIN:VEVENT
DTSTART;TZID=UTC:20221016T100000
DTEND;TZID=UTC:20221016T140000
DTSTAMP:20260424T093412
CREATED:20220523T160745Z
LAST-MODIFIED:20220523T160745Z
UID:6499-1665914400-1665928800@www.myfarmersmarket.co.uk
SUMMARY:Chislehurst Farmers Market
DESCRIPTION:Hornbrook House Car Park\, High Street\, Chislehurst BR7 5AB
URL:http://www.myfarmersmarket.co.uk/market/chislehurst-farmers-market-66/
CATEGORIES:Chislehurst Farmers Market
END:VEVENT
BEGIN:VEVENT
DTSTART;TZID=UTC:20220918T100000
DTEND;TZID=UTC:20220918T140000
DTSTAMP:20260424T093412
CREATED:20220523T160642Z
LAST-MODIFIED:20220523T160642Z
UID:6497-1663495200-1663509600@www.myfarmersmarket.co.uk
SUMMARY:Chislehurst Farmers Market
DESCRIPTION:Hornbrook House Car Park\, High Street\, Chislehurst BR7 5AB
URL:http://www.myfarmersmarket.co.uk/market/chislehurst-farmers-market-65/
CATEGORIES:Chislehurst Farmers Market
END:VEVENT
BEGIN:VEVENT
DTSTART;TZID=UTC:20220821T100000
DTEND;TZID=UTC:20220821T140000
DTSTAMP:20260424T093412
CREATED:20220523T160552Z
LAST-MODIFIED:20220523T160552Z
UID:6495-1661076000-1661090400@www.myfarmersmarket.co.uk
SUMMARY:Chislehurst Farmers Market
DESCRIPTION:Hornbrook House Car Park\, High Street\, Chislehurst BR7 5AB
URL:http://www.myfarmersmarket.co.uk/market/chislehurst-farmers-market-64/
CATEGORIES:Chislehurst Farmers Market
END:VEVENT
BEGIN:VEVENT
DTSTART;TZID=UTC:20220717T100000
DTEND;TZID=UTC:20220717T140000
DTSTAMP:20260424T093412
CREATED:20220523T160500Z
LAST-MODIFIED:20220523T160500Z
UID:6493-1658052000-1658066400@www.myfarmersmarket.co.uk
SUMMARY:Chislehurst Farmers Market
DESCRIPTION:Hornbrook House Car Park\, High Street\, Chislehurst BR7 5AB
URL:http://www.myfarmersmarket.co.uk/market/chislehurst-farmers-market-63/
CATEGORIES:Chislehurst Farmers Market
END:VEVENT
BEGIN:VEVENT
DTSTART;TZID=UTC:20220619T100000
DTEND;TZID=UTC:20220619T140000
DTSTAMP:20260424T093412
CREATED:20211226T123554Z
LAST-MODIFIED:20211226T123554Z
UID:6222-1655632800-1655647200@www.myfarmersmarket.co.uk
SUMMARY:Chislehurst Farmers Market
DESCRIPTION:Hornbrook House Car Park\, High Street\, Chislehurst BR7 5AB
URL:http://www.myfarmersmarket.co.uk/market/chislehurst-farmers-market-62/
CATEGORIES:Chislehurst Farmers Market
END:VEVENT
BEGIN:VEVENT
DTSTART;TZID=UTC:20220515T100000
DTEND;TZID=UTC:20220515T140000
DTSTAMP:20260424T093412
CREATED:20211226T123454Z
LAST-MODIFIED:20211226T123454Z
UID:6220-1652608800-1652623200@www.myfarmersmarket.co.uk
SUMMARY:Chislehurst Farmers Market
DESCRIPTION:Hornbrook House Car Park\, High Street\, Chislehurst BR7 5AB
URL:http://www.myfarmersmarket.co.uk/market/chislehurst-farmers-market-61/
CATEGORIES:Chislehurst Farmers Market
END:VEVENT
BEGIN:VEVENT
DTSTART;TZID=UTC:20220417T100000
DTEND;TZID=UTC:20220417T140000
DTSTAMP:20260424T093412
CREATED:20211226T123352Z
LAST-MODIFIED:20211226T123352Z
UID:6218-1650189600-1650204000@www.myfarmersmarket.co.uk
SUMMARY:Chislehurst Farmers Market
DESCRIPTION:Hornbrook House Car Park\, High Street\, Chislehurst BR7 5AB
URL:http://www.myfarmersmarket.co.uk/market/chislehurst-farmers-market-60/
CATEGORIES:Chislehurst Farmers Market
END:VEVENT
BEGIN:VEVENT
DTSTART;TZID=UTC:20220320T100000
DTEND;TZID=UTC:20220320T140000
DTSTAMP:20260424T093412
CREATED:20211226T123256Z
LAST-MODIFIED:20211226T123256Z
UID:6216-1647770400-1647784800@www.myfarmersmarket.co.uk
SUMMARY:Chislehurst Farmers Market
DESCRIPTION:Hornbrook House Car Park\, High Street\, Chislehurst BR7 5AB
URL:http://www.myfarmersmarket.co.uk/market/chislehurst-farmers-market-59/
CATEGORIES:Chislehurst Farmers Market
END:VEVENT
BEGIN:VEVENT
DTSTART;TZID=UTC:20220220T100000
DTEND;TZID=UTC:20220220T140000
DTSTAMP:20260424T093412
CREATED:20211226T123140Z
LAST-MODIFIED:20220219T172329Z
UID:6214-1645351200-1645365600@www.myfarmersmarket.co.uk
SUMMARY:Chislehurst Farmers Market
DESCRIPTION:CANCELLED DUE TO WEATHER WARNING OF HIGH WIND SPEEDS
URL:http://www.myfarmersmarket.co.uk/market/chislehurst-farmers-market-58/
CATEGORIES:Chislehurst Farmers Market
END:VEVENT
BEGIN:VEVENT
DTSTART;TZID=UTC:20220116T100000
DTEND;TZID=UTC:20220116T140000
DTSTAMP:20260424T093412
CREATED:20211221T181239Z
LAST-MODIFIED:20211221T181239Z
UID:6176-1642327200-1642341600@www.myfarmersmarket.co.uk
SUMMARY:Chislehurst Farmers Market
DESCRIPTION:Hornbrook House Car Park\, High Street\, Chislehurst BR7 5AB
URL:http://www.myfarmersmarket.co.uk/market/chislehurst-farmers-market-57/
CATEGORIES:Chislehurst Farmers Market
END:VEVENT
BEGIN:VEVENT
DTSTART;TZID=UTC:20211219T100000
DTEND;TZID=UTC:20211219T140000
DTSTAMP:20260424T093412
CREATED:20201229T122218Z
LAST-MODIFIED:20201229T122218Z
UID:5566-1639908000-1639922400@www.myfarmersmarket.co.uk
SUMMARY:Chislehurst Farmers Market
DESCRIPTION:Hornbrook House Car Park\, High Street\, Chislehurst BR7 5AB
URL:http://www.myfarmersmarket.co.uk/market/chislehurst-farmers-market-56/
CATEGORIES:Chislehurst Farmers Market
END:VEVENT
BEGIN:VEVENT
DTSTART;TZID=UTC:20211121T100000
DTEND;TZID=UTC:20211121T140000
DTSTAMP:20260424T093412
CREATED:20201229T122103Z
LAST-MODIFIED:20201229T122103Z
UID:5564-1637488800-1637503200@www.myfarmersmarket.co.uk
SUMMARY:Chislehurst Farmers Market
DESCRIPTION:Hornbrook House Car Park\, High Street\, Chislehurst BR7 5AB
URL:http://www.myfarmersmarket.co.uk/market/chislehurst-farmers-market-55/
CATEGORIES:Chislehurst Farmers Market
END:VEVENT
BEGIN:VEVENT
DTSTART;TZID=UTC:20211017T100000
DTEND;TZID=UTC:20211017T140000
DTSTAMP:20260424T093412
CREATED:20201229T121920Z
LAST-MODIFIED:20201229T121920Z
UID:5562-1634464800-1634479200@www.myfarmersmarket.co.uk
SUMMARY:Chislehurst Farmers Market
DESCRIPTION:Hornbrook House Car Park\, High Street\, Chislehurst BR7 5AB
URL:http://www.myfarmersmarket.co.uk/market/chislehurst-farmers-market-54/
CATEGORIES:Chislehurst Farmers Market
END:VEVENT
BEGIN:VEVENT
DTSTART;TZID=UTC:20210919T100000
DTEND;TZID=UTC:20210919T140000
DTSTAMP:20260424T093412
CREATED:20201229T121817Z
LAST-MODIFIED:20201229T121817Z
UID:5560-1632045600-1632060000@www.myfarmersmarket.co.uk
SUMMARY:Chislehurst Farmers Market
DESCRIPTION:Hornbrook House Car Park\, High Street\, Chislehurst BR7 5AB
URL:http://www.myfarmersmarket.co.uk/market/chislehurst-farmers-market-53/
CATEGORIES:Chislehurst Farmers Market
END:VEVENT
BEGIN:VEVENT
DTSTART;TZID=UTC:20210815T100000
DTEND;TZID=UTC:20210815T140000
DTSTAMP:20260424T093412
CREATED:20201229T121706Z
LAST-MODIFIED:20201229T121706Z
UID:5558-1629021600-1629036000@www.myfarmersmarket.co.uk
SUMMARY:Chislehurst Farmers Market
DESCRIPTION:Hornbrook House Car Park\, High Street\, Chislehurst BR7 5AB
URL:http://www.myfarmersmarket.co.uk/market/chislehurst-farmers-market-52/
CATEGORIES:Chislehurst Farmers Market
END:VEVENT
BEGIN:VEVENT
DTSTART;TZID=UTC:20210718T100000
DTEND;TZID=UTC:20210718T140000
DTSTAMP:20260424T093412
CREATED:20201229T121616Z
LAST-MODIFIED:20201229T121616Z
UID:5556-1626602400-1626616800@www.myfarmersmarket.co.uk
SUMMARY:Chislehurst Farmers Market
DESCRIPTION:Hornbrook House Car Park\, High Street\, Chislehurst BR7 5AB
URL:http://www.myfarmersmarket.co.uk/market/chislehurst-farmers-market-51/
CATEGORIES:Chislehurst Farmers Market
END:VEVENT
BEGIN:VEVENT
DTSTART;TZID=UTC:20210620T100000
DTEND;TZID=UTC:20210620T140000
DTSTAMP:20260424T093412
CREATED:20201229T121529Z
LAST-MODIFIED:20201229T121529Z
UID:5554-1624183200-1624197600@www.myfarmersmarket.co.uk
SUMMARY:Chislehurst Farmers Market
DESCRIPTION:Hornbrook House Car Park\, High Street\, Chislehurst BR7 5AB
URL:http://www.myfarmersmarket.co.uk/market/chislehurst-farmers-market-50/
CATEGORIES:Chislehurst Farmers Market
END:VEVENT
END:VCALENDAR