BEGIN:VCALENDAR
VERSION:2.0
PRODID:-//My Farmers Market - ECPv6.15.12.2//NONSGML v1.0//EN
CALSCALE:GREGORIAN
METHOD:PUBLISH
X-ORIGINAL-URL:http://www.myfarmersmarket.co.uk
X-WR-CALDESC:Events for My Farmers Market
REFRESH-INTERVAL;VALUE=DURATION:PT1H
X-Robots-Tag:noindex
X-PUBLISHED-TTL:PT1H
BEGIN:VTIMEZONE
TZID:UTC
BEGIN:STANDARD
TZOFFSETFROM:+0000
TZOFFSETTO:+0000
TZNAME:UTC
DTSTART:20170101T000000
END:STANDARD
END:VTIMEZONE
BEGIN:VEVENT
DTSTART;TZID=UTC:20210516T100000
DTEND;TZID=UTC:20210516T140000
DTSTAMP:20260423T015203
CREATED:20201229T121437Z
LAST-MODIFIED:20201229T121437Z
UID:5552-1621159200-1621173600@www.myfarmersmarket.co.uk
SUMMARY:Chislehurst Farmers Market
DESCRIPTION:Hornbrook House Car Park\, High Street\, Chislehurst BR7 5AB
URL:http://www.myfarmersmarket.co.uk/market/chislehurst-farmers-market-49/
CATEGORIES:Chislehurst Farmers Market
END:VEVENT
BEGIN:VEVENT
DTSTART;TZID=UTC:20210418T100000
DTEND;TZID=UTC:20210418T140000
DTSTAMP:20260423T015203
CREATED:20201229T121343Z
LAST-MODIFIED:20201229T121343Z
UID:5550-1618740000-1618754400@www.myfarmersmarket.co.uk
SUMMARY:Chislehurst Farmers Market
DESCRIPTION:Hornbrook House Car Park\, High Street\, Chislehurst BR7 5AB
URL:http://www.myfarmersmarket.co.uk/market/chislehurst-farmers-market-48/
CATEGORIES:Chislehurst Farmers Market
END:VEVENT
BEGIN:VEVENT
DTSTART;TZID=UTC:20210321T100000
DTEND;TZID=UTC:20210321T140000
DTSTAMP:20260423T015203
CREATED:20201229T120842Z
LAST-MODIFIED:20201229T120842Z
UID:5548-1616320800-1616335200@www.myfarmersmarket.co.uk
SUMMARY:Chislehurst Farmers Market
DESCRIPTION:Hornbrook House Car Park\, High Street\, Chislehurst BR7 5AB
URL:http://www.myfarmersmarket.co.uk/market/chislehurst-farmers-market-47/
CATEGORIES:Chislehurst Farmers Market
END:VEVENT
BEGIN:VEVENT
DTSTART;TZID=UTC:20210221T100000
DTEND;TZID=UTC:20210221T140000
DTSTAMP:20260423T015203
CREATED:20201229T120748Z
LAST-MODIFIED:20201229T120748Z
UID:5546-1613901600-1613916000@www.myfarmersmarket.co.uk
SUMMARY:Chislehurst Farmers Market
DESCRIPTION:Hornbrook House Car Park\, High Street\, Chislehurst BR7 5AB
URL:http://www.myfarmersmarket.co.uk/market/chislehurst-farmers-market-46/
CATEGORIES:Chislehurst Farmers Market
END:VEVENT
BEGIN:VEVENT
DTSTART;TZID=UTC:20210117T100000
DTEND;TZID=UTC:20210117T140000
DTSTAMP:20260423T015203
CREATED:20201229T115808Z
LAST-MODIFIED:20201229T120658Z
UID:5544-1610877600-1610892000@www.myfarmersmarket.co.uk
SUMMARY:Chislehurst Farmers Market
DESCRIPTION:Hornbrook House Car Park\, High Street\, Chislehurst BR7 5AB
URL:http://www.myfarmersmarket.co.uk/market/chislehurst-farmers-market-45/
CATEGORIES:Chislehurst Farmers Market
END:VEVENT
BEGIN:VEVENT
DTSTART;TZID=UTC:20201220T100000
DTEND;TZID=UTC:20201220T140000
DTSTAMP:20260423T015203
CREATED:20200810T110031Z
LAST-MODIFIED:20201219T193637Z
UID:5341-1608458400-1608472800@www.myfarmersmarket.co.uk
SUMMARY:Chislehurst Farmers Market
DESCRIPTION:Hornbrook House Car Park\, High Street\, Chislehurst CANCELLED DUE TO TIER 4 ANNOUNCEMENT
URL:http://www.myfarmersmarket.co.uk/market/chislehurst-farmers-market-44/
CATEGORIES:Chislehurst Farmers Market
END:VEVENT
BEGIN:VEVENT
DTSTART;TZID=UTC:20201115T100000
DTEND;TZID=UTC:20201115T140000
DTSTAMP:20260423T015203
CREATED:20200810T103525Z
LAST-MODIFIED:20201112T204505Z
UID:5339-1605434400-1605448800@www.myfarmersmarket.co.uk
SUMMARY:Chislehurst Farmers Market
DESCRIPTION:Hornbrook House Car Park\, High Street\, Chislehurst  – POSTPONED DUE TO LOCKDOWN 2
URL:http://www.myfarmersmarket.co.uk/market/chislehurst-farmers-market-43/
CATEGORIES:Chislehurst Farmers Market
END:VEVENT
BEGIN:VEVENT
DTSTART;TZID=UTC:20201018T100000
DTEND;TZID=UTC:20201018T140000
DTSTAMP:20260423T015203
CREATED:20200722T171947Z
LAST-MODIFIED:20200722T171947Z
UID:5314-1603015200-1603029600@www.myfarmersmarket.co.uk
SUMMARY:Chislehurst Farmers Market
DESCRIPTION:Hornbrook House Car Park\, High Street\, Chislehurst
URL:http://www.myfarmersmarket.co.uk/market/chislehurst-farmers-market-42/
CATEGORIES:Chislehurst Farmers Market
END:VEVENT
BEGIN:VEVENT
DTSTART;TZID=UTC:20200816T100000
DTEND;TZID=UTC:20200816T140000
DTSTAMP:20260423T015203
CREATED:20200722T171802Z
LAST-MODIFIED:20200810T102702Z
UID:5310-1597572000-1597586400@www.myfarmersmarket.co.uk
SUMMARY:Chislehurst Farmers Market
DESCRIPTION:Hornbrook House Car Park\, High Street\, Chislehurst OPEN
URL:http://www.myfarmersmarket.co.uk/market/chislehurst-farmers-market-40/
CATEGORIES:Chislehurst Farmers Market
END:VEVENT
BEGIN:VEVENT
DTSTART;TZID=UTC:20200719T100000
DTEND;TZID=UTC:20200719T140000
DTSTAMP:20260423T015203
CREATED:20200710T150736Z
LAST-MODIFIED:20200710T150736Z
UID:5292-1595152800-1595167200@www.myfarmersmarket.co.uk
SUMMARY:Chislehurst Farmers Market
DESCRIPTION:Hornbrook House Car Park\, High Street\, Chislehurst 
URL:http://www.myfarmersmarket.co.uk/market/chislehurst-farmers-market-39/
CATEGORIES:Chislehurst Farmers Market
END:VEVENT
BEGIN:VEVENT
DTSTART;TZID=UTC:20200621T100000
DTEND;TZID=UTC:20200621T140000
DTSTAMP:20260423T015203
CREATED:20191230T182339Z
LAST-MODIFIED:20200603T061431Z
UID:4938-1592733600-1592748000@www.myfarmersmarket.co.uk
SUMMARY:Chislehurst Farmers Market
DESCRIPTION:POSTPONED
URL:http://www.myfarmersmarket.co.uk/market/chislehurst-farmers-market-37/
CATEGORIES:Chislehurst Farmers Market
END:VEVENT
BEGIN:VEVENT
DTSTART;TZID=UTC:20200419T100000
DTEND;TZID=UTC:20200419T140000
DTSTAMP:20260423T015203
CREATED:20191230T182231Z
LAST-MODIFIED:20200326T102456Z
UID:4936-1587290400-1587304800@www.myfarmersmarket.co.uk
SUMMARY:Chislehurst Farmers Market
DESCRIPTION:POSTPONED
URL:http://www.myfarmersmarket.co.uk/market/chislehurst-farmers-market-36/
CATEGORIES:Chislehurst Farmers Market
END:VEVENT
BEGIN:VEVENT
DTSTART;TZID=UTC:20200315T100000
DTEND;TZID=UTC:20200315T140000
DTSTAMP:20260423T015203
CREATED:20191230T182105Z
LAST-MODIFIED:20191230T182105Z
UID:4934-1584266400-1584280800@www.myfarmersmarket.co.uk
SUMMARY:Chislehurst Farmers Market
DESCRIPTION:Hornbrook House Car Park\, High Street\, Chislehurst
URL:http://www.myfarmersmarket.co.uk/market/chislehurst-farmers-market-35/
CATEGORIES:Chislehurst Farmers Market
END:VEVENT
BEGIN:VEVENT
DTSTART;TZID=UTC:20200216T100000
DTEND;TZID=UTC:20200216T140000
DTSTAMP:20260423T015203
CREATED:20191230T181835Z
LAST-MODIFIED:20200215T101152Z
UID:4931-1581847200-1581861600@www.myfarmersmarket.co.uk
SUMMARY:Chislehurst Farmers Market
DESCRIPTION:CANCELLED DUE TO WEATHER WARNINGS 
URL:http://www.myfarmersmarket.co.uk/market/chislehurst-farmers-market-34/
CATEGORIES:Chislehurst Farmers Market
END:VEVENT
BEGIN:VEVENT
DTSTART;TZID=UTC:20200119T100000
DTEND;TZID=UTC:20200119T140000
DTSTAMP:20260423T015203
CREATED:20191202T110438Z
LAST-MODIFIED:20191202T110438Z
UID:4885-1579428000-1579442400@www.myfarmersmarket.co.uk
SUMMARY:Chislehurst Farmers Market
DESCRIPTION:Hornbrook House Car Park\, High Street\, Chislehurst
URL:http://www.myfarmersmarket.co.uk/market/chislehurst-farmers-market-33/
CATEGORIES:Chislehurst Farmers Market
END:VEVENT
BEGIN:VEVENT
DTSTART;TZID=UTC:20191215T100000
DTEND;TZID=UTC:20191215T140000
DTSTAMP:20260423T015203
CREATED:20190401T143421Z
LAST-MODIFIED:20190401T143421Z
UID:4798-1576404000-1576418400@www.myfarmersmarket.co.uk
SUMMARY:Chislehurst Farmers Market
DESCRIPTION:Hornbrook House Car Park\, High Street\, Chislehurst
URL:http://www.myfarmersmarket.co.uk/market/chislehurst-farmers-market-31/
CATEGORIES:Chislehurst Farmers Market
END:VEVENT
BEGIN:VEVENT
DTSTART;TZID=UTC:20191117T100000
DTEND;TZID=UTC:20191117T140000
DTSTAMP:20260423T015203
CREATED:20190401T143310Z
LAST-MODIFIED:20190401T143310Z
UID:4796-1573984800-1573999200@www.myfarmersmarket.co.uk
SUMMARY:Chislehurst Farmers Market
DESCRIPTION:Hornbrook House Car Park\, High Street\, Chislehurst
URL:http://www.myfarmersmarket.co.uk/market/chislehurst-farmers-market-30/
CATEGORIES:Chislehurst Farmers Market
END:VEVENT
BEGIN:VEVENT
DTSTART;TZID=UTC:20191020T100000
DTEND;TZID=UTC:20191020T140000
DTSTAMP:20260423T015203
CREATED:20190401T150924Z
LAST-MODIFIED:20190401T150924Z
UID:4836-1571565600-1571580000@www.myfarmersmarket.co.uk
SUMMARY:Chislehurst Farmers Market
DESCRIPTION:Hornbrook House Car Park\, High Street\, Chislehurst
URL:http://www.myfarmersmarket.co.uk/market/chislehurst-farmers-market-32/
CATEGORIES:Chislehurst Farmers Market
END:VEVENT
BEGIN:VEVENT
DTSTART;TZID=UTC:20190915T100000
DTEND;TZID=UTC:20190915T140000
DTSTAMP:20260423T015203
CREATED:20190401T143141Z
LAST-MODIFIED:20190401T143141Z
UID:4794-1568541600-1568556000@www.myfarmersmarket.co.uk
SUMMARY:Chislehurst Farmers Market
DESCRIPTION:Hornbrook House Car Park\, High Street\, Chislehurst
URL:http://www.myfarmersmarket.co.uk/market/chislehurst-farmers-market-29/
CATEGORIES:Chislehurst Farmers Market
END:VEVENT
BEGIN:VEVENT
DTSTART;TZID=UTC:20190818T100000
DTEND;TZID=UTC:20190818T140000
DTSTAMP:20260423T015203
CREATED:20190401T143028Z
LAST-MODIFIED:20190401T143028Z
UID:4792-1566122400-1566136800@www.myfarmersmarket.co.uk
SUMMARY:Chislehurst Farmers Market
DESCRIPTION:Hornbrook House Car Park\, High Street\, Chislehurst
URL:http://www.myfarmersmarket.co.uk/market/chislehurst-farmers-market-28/
CATEGORIES:Chislehurst Farmers Market
END:VEVENT
BEGIN:VEVENT
DTSTART;TZID=UTC:20190721T100000
DTEND;TZID=UTC:20190721T140000
DTSTAMP:20260423T015203
CREATED:20190329T111320Z
LAST-MODIFIED:20190329T111320Z
UID:4756-1563703200-1563717600@www.myfarmersmarket.co.uk
SUMMARY:Chislehurst Farmers Market
DESCRIPTION:Hornbrook House Car Park\, High Street\, Chislehurst
URL:http://www.myfarmersmarket.co.uk/market/chislehurst-farmers-market-27/
CATEGORIES:Chislehurst Farmers Market
END:VEVENT
BEGIN:VEVENT
DTSTART;TZID=UTC:20190616T100000
DTEND;TZID=UTC:20190616T140000
DTSTAMP:20260423T015203
CREATED:20190329T111217Z
LAST-MODIFIED:20190329T111217Z
UID:4754-1560679200-1560693600@www.myfarmersmarket.co.uk
SUMMARY:Chislehurst Farmers Market
DESCRIPTION:Hornbrook House Car Park\, High Street\, Chislehurst
URL:http://www.myfarmersmarket.co.uk/market/chislehurst-farmers-market-26/
CATEGORIES:Chislehurst Farmers Market
END:VEVENT
BEGIN:VEVENT
DTSTART;TZID=UTC:20190519T100000
DTEND;TZID=UTC:20190519T140000
DTSTAMP:20260423T015203
CREATED:20190329T111045Z
LAST-MODIFIED:20190329T111107Z
UID:4752-1558260000-1558274400@www.myfarmersmarket.co.uk
SUMMARY:Chislehurst Farmers Market
DESCRIPTION:Hornbrook House Car Park\, High Street\, Chislehurst
URL:http://www.myfarmersmarket.co.uk/market/chislehurst-farmers-market-25/
CATEGORIES:Chislehurst Farmers Market
END:VEVENT
BEGIN:VEVENT
DTSTART;TZID=UTC:20190421T100000
DTEND;TZID=UTC:20190421T140000
DTSTAMP:20260423T015203
CREATED:20190205T114052Z
LAST-MODIFIED:20190205T114052Z
UID:4699-1555840800-1555855200@www.myfarmersmarket.co.uk
SUMMARY:Chislehurst Farmers Market
DESCRIPTION:Hornbrook House Car Park\, High Street
URL:http://www.myfarmersmarket.co.uk/market/chislehurst-farmers-market-24/
CATEGORIES:Chislehurst Farmers Market
END:VEVENT
BEGIN:VEVENT
DTSTART;TZID=UTC:20190317T100000
DTEND;TZID=UTC:20190317T140000
DTSTAMP:20260423T015203
CREATED:20190205T113303Z
LAST-MODIFIED:20190205T113303Z
UID:4687-1552816800-1552831200@www.myfarmersmarket.co.uk
SUMMARY:Chislehurst Farmers Market
DESCRIPTION:Hornbrook House Car Park\, High Street
URL:http://www.myfarmersmarket.co.uk/market/chislehurst-farmers-market-23/
CATEGORIES:Chislehurst Farmers Market
END:VEVENT
BEGIN:VEVENT
DTSTART;TZID=UTC:20190217T100000
DTEND;TZID=UTC:20190217T140000
DTSTAMP:20260423T015203
CREATED:20190116T131007Z
LAST-MODIFIED:20190116T131007Z
UID:4671-1550397600-1550412000@www.myfarmersmarket.co.uk
SUMMARY:Chislehurst Farmers Market
DESCRIPTION:
URL:http://www.myfarmersmarket.co.uk/market/chislehurst-farmers-market-22/
CATEGORIES:Chislehurst Farmers Market
END:VEVENT
BEGIN:VEVENT
DTSTART;TZID=UTC:20190120T100000
DTEND;TZID=UTC:20190120T140000
DTSTAMP:20260423T015203
CREATED:20181212T135306Z
LAST-MODIFIED:20181212T135306Z
UID:4592-1547978400-1547992800@www.myfarmersmarket.co.uk
SUMMARY:Chislehurst Farmers Market
DESCRIPTION:Hornbrook House Car Park\, High Street\, Chislehurst
URL:http://www.myfarmersmarket.co.uk/market/chislehurst-farmers-market-21/
CATEGORIES:Chislehurst Farmers Market
END:VEVENT
BEGIN:VEVENT
DTSTART;TZID=UTC:20181216T100000
DTEND;TZID=UTC:20181216T140000
DTSTAMP:20260423T015203
CREATED:20180727T092451Z
LAST-MODIFIED:20180727T092451Z
UID:4546-1544954400-1544968800@www.myfarmersmarket.co.uk
SUMMARY:Chislehurst Farmers Market
DESCRIPTION:
URL:http://www.myfarmersmarket.co.uk/market/chislehurst-farmers-market-20/
LOCATION:Hornbrook House Car Park\, Chislehurst\, High Street\, Cislehurst\, London\, BR7 5AB\, United Kingdom
CATEGORIES:Chislehurst Farmers Market
END:VEVENT
BEGIN:VEVENT
DTSTART;TZID=UTC:20181118T100000
DTEND;TZID=UTC:20181118T140000
DTSTAMP:20260423T015203
CREATED:20180727T074557Z
LAST-MODIFIED:20180727T074557Z
UID:4533-1542535200-1542549600@www.myfarmersmarket.co.uk
SUMMARY:Chislehurst Farmers Market
DESCRIPTION:
URL:http://www.myfarmersmarket.co.uk/market/chislehurst-farmers-market-19/
LOCATION:Hornbrook House Car Park\, Chislehurst\, High Street\, Cislehurst\, London\, BR7 5AB\, United Kingdom
CATEGORIES:Chislehurst Farmers Market
END:VEVENT
BEGIN:VEVENT
DTSTART;TZID=UTC:20181021T100000
DTEND;TZID=UTC:20181021T140000
DTSTAMP:20260423T015203
CREATED:20180727T073521Z
LAST-MODIFIED:20180727T073521Z
UID:4517-1540116000-1540130400@www.myfarmersmarket.co.uk
SUMMARY:Chislehurst Farmers Market
DESCRIPTION:
URL:http://www.myfarmersmarket.co.uk/market/chislehurst-farmers-market-18/
LOCATION:Hornbrook House Car Park\, Chislehurst\, High Street\, Cislehurst\, London\, BR7 5AB\, United Kingdom
CATEGORIES:Chislehurst Farmers Market
END:VEVENT
END:VCALENDAR