BEGIN:VCALENDAR
VERSION:2.0
PRODID:-//My Farmers Market - ECPv6.15.12.2//NONSGML v1.0//EN
CALSCALE:GREGORIAN
METHOD:PUBLISH
X-WR-CALNAME:My Farmers Market
X-ORIGINAL-URL:http://www.myfarmersmarket.co.uk
X-WR-CALDESC:Events for My Farmers Market
REFRESH-INTERVAL;VALUE=DURATION:PT1H
X-Robots-Tag:noindex
X-PUBLISHED-TTL:PT1H
BEGIN:VTIMEZONE
TZID:UTC
BEGIN:STANDARD
TZOFFSETFROM:+0000
TZOFFSETTO:+0000
TZNAME:UTC
DTSTART:20160101T000000
END:STANDARD
END:VTIMEZONE
BEGIN:VEVENT
DTSTART;TZID=UTC:20190721T100000
DTEND;TZID=UTC:20190721T140000
DTSTAMP:20260423T043730
CREATED:20190329T111320Z
LAST-MODIFIED:20190329T111320Z
UID:4756-1563703200-1563717600@www.myfarmersmarket.co.uk
SUMMARY:Chislehurst Farmers Market
DESCRIPTION:Hornbrook House Car Park\, High Street\, Chislehurst
URL:http://www.myfarmersmarket.co.uk/market/chislehurst-farmers-market-27/
CATEGORIES:Chislehurst Farmers Market
END:VEVENT
BEGIN:VEVENT
DTSTART;TZID=UTC:20190616T100000
DTEND;TZID=UTC:20190616T140000
DTSTAMP:20260423T043730
CREATED:20190329T111217Z
LAST-MODIFIED:20190329T111217Z
UID:4754-1560679200-1560693600@www.myfarmersmarket.co.uk
SUMMARY:Chislehurst Farmers Market
DESCRIPTION:Hornbrook House Car Park\, High Street\, Chislehurst
URL:http://www.myfarmersmarket.co.uk/market/chislehurst-farmers-market-26/
CATEGORIES:Chislehurst Farmers Market
END:VEVENT
BEGIN:VEVENT
DTSTART;TZID=UTC:20190519T100000
DTEND;TZID=UTC:20190519T140000
DTSTAMP:20260423T043730
CREATED:20190329T111045Z
LAST-MODIFIED:20190329T111107Z
UID:4752-1558260000-1558274400@www.myfarmersmarket.co.uk
SUMMARY:Chislehurst Farmers Market
DESCRIPTION:Hornbrook House Car Park\, High Street\, Chislehurst
URL:http://www.myfarmersmarket.co.uk/market/chislehurst-farmers-market-25/
CATEGORIES:Chislehurst Farmers Market
END:VEVENT
BEGIN:VEVENT
DTSTART;TZID=UTC:20190421T100000
DTEND;TZID=UTC:20190421T140000
DTSTAMP:20260423T043730
CREATED:20190205T114052Z
LAST-MODIFIED:20190205T114052Z
UID:4699-1555840800-1555855200@www.myfarmersmarket.co.uk
SUMMARY:Chislehurst Farmers Market
DESCRIPTION:Hornbrook House Car Park\, High Street
URL:http://www.myfarmersmarket.co.uk/market/chislehurst-farmers-market-24/
CATEGORIES:Chislehurst Farmers Market
END:VEVENT
BEGIN:VEVENT
DTSTART;TZID=UTC:20190317T100000
DTEND;TZID=UTC:20190317T140000
DTSTAMP:20260423T043730
CREATED:20190205T113303Z
LAST-MODIFIED:20190205T113303Z
UID:4687-1552816800-1552831200@www.myfarmersmarket.co.uk
SUMMARY:Chislehurst Farmers Market
DESCRIPTION:Hornbrook House Car Park\, High Street
URL:http://www.myfarmersmarket.co.uk/market/chislehurst-farmers-market-23/
CATEGORIES:Chislehurst Farmers Market
END:VEVENT
BEGIN:VEVENT
DTSTART;TZID=UTC:20190217T100000
DTEND;TZID=UTC:20190217T140000
DTSTAMP:20260423T043730
CREATED:20190116T131007Z
LAST-MODIFIED:20190116T131007Z
UID:4671-1550397600-1550412000@www.myfarmersmarket.co.uk
SUMMARY:Chislehurst Farmers Market
DESCRIPTION:
URL:http://www.myfarmersmarket.co.uk/market/chislehurst-farmers-market-22/
CATEGORIES:Chislehurst Farmers Market
END:VEVENT
BEGIN:VEVENT
DTSTART;TZID=UTC:20190120T100000
DTEND;TZID=UTC:20190120T140000
DTSTAMP:20260423T043730
CREATED:20181212T135306Z
LAST-MODIFIED:20181212T135306Z
UID:4592-1547978400-1547992800@www.myfarmersmarket.co.uk
SUMMARY:Chislehurst Farmers Market
DESCRIPTION:Hornbrook House Car Park\, High Street\, Chislehurst
URL:http://www.myfarmersmarket.co.uk/market/chislehurst-farmers-market-21/
CATEGORIES:Chislehurst Farmers Market
END:VEVENT
BEGIN:VEVENT
DTSTART;TZID=UTC:20181216T100000
DTEND;TZID=UTC:20181216T140000
DTSTAMP:20260423T043730
CREATED:20180727T092451Z
LAST-MODIFIED:20180727T092451Z
UID:4546-1544954400-1544968800@www.myfarmersmarket.co.uk
SUMMARY:Chislehurst Farmers Market
DESCRIPTION:
URL:http://www.myfarmersmarket.co.uk/market/chislehurst-farmers-market-20/
LOCATION:Hornbrook House Car Park\, Chislehurst\, High Street\, Cislehurst\, London\, BR7 5AB\, United Kingdom
CATEGORIES:Chislehurst Farmers Market
END:VEVENT
BEGIN:VEVENT
DTSTART;TZID=UTC:20181118T100000
DTEND;TZID=UTC:20181118T140000
DTSTAMP:20260423T043730
CREATED:20180727T074557Z
LAST-MODIFIED:20180727T074557Z
UID:4533-1542535200-1542549600@www.myfarmersmarket.co.uk
SUMMARY:Chislehurst Farmers Market
DESCRIPTION:
URL:http://www.myfarmersmarket.co.uk/market/chislehurst-farmers-market-19/
LOCATION:Hornbrook House Car Park\, Chislehurst\, High Street\, Cislehurst\, London\, BR7 5AB\, United Kingdom
CATEGORIES:Chislehurst Farmers Market
END:VEVENT
BEGIN:VEVENT
DTSTART;TZID=UTC:20181021T100000
DTEND;TZID=UTC:20181021T140000
DTSTAMP:20260423T043730
CREATED:20180727T073521Z
LAST-MODIFIED:20180727T073521Z
UID:4517-1540116000-1540130400@www.myfarmersmarket.co.uk
SUMMARY:Chislehurst Farmers Market
DESCRIPTION:
URL:http://www.myfarmersmarket.co.uk/market/chislehurst-farmers-market-18/
LOCATION:Hornbrook House Car Park\, Chislehurst\, High Street\, Cislehurst\, London\, BR7 5AB\, United Kingdom
CATEGORIES:Chislehurst Farmers Market
END:VEVENT
BEGIN:VEVENT
DTSTART;TZID=UTC:20180916T100000
DTEND;TZID=UTC:20180916T140000
DTSTAMP:20260423T043730
CREATED:20180727T072139Z
LAST-MODIFIED:20180727T072149Z
UID:4503-1537092000-1537106400@www.myfarmersmarket.co.uk
SUMMARY:Chislehurst Farmers Market
DESCRIPTION:
URL:http://www.myfarmersmarket.co.uk/market/chislehurst-farmers-market-17/
LOCATION:Hornbrook House Car Park\, Chislehurst\, High Street\, Cislehurst\, London\, BR7 5AB\, United Kingdom
CATEGORIES:Chislehurst Farmers Market
END:VEVENT
BEGIN:VEVENT
DTSTART;TZID=UTC:20180819T100000
DTEND;TZID=UTC:20180819T140000
DTSTAMP:20260423T043730
CREATED:20180722T171441Z
LAST-MODIFIED:20180722T171441Z
UID:4489-1534672800-1534687200@www.myfarmersmarket.co.uk
SUMMARY:Chislehurst Farmers Market
DESCRIPTION:
URL:http://www.myfarmersmarket.co.uk/market/chislehurst-farmers-market-16/
LOCATION:Hornbrook House Car Park\, Chislehurst\, High Street\, Cislehurst\, London\, BR7 5AB\, United Kingdom
CATEGORIES:Chislehurst Farmers Market
END:VEVENT
BEGIN:VEVENT
DTSTART;TZID=UTC:20180715T100000
DTEND;TZID=UTC:20180715T140000
DTSTAMP:20260423T043730
CREATED:20180629T182955Z
LAST-MODIFIED:20180629T182955Z
UID:4473-1531648800-1531663200@www.myfarmersmarket.co.uk
SUMMARY:Chislehurst Farmers Market
DESCRIPTION:Hornbrook House Car Park\, High Street\, Chislehurst\, Kent
URL:http://www.myfarmersmarket.co.uk/market/chislehurst-farmers-market-15/
CATEGORIES:Chislehurst Farmers Market
END:VEVENT
BEGIN:VEVENT
DTSTART;TZID=UTC:20180520T100000
DTEND;TZID=UTC:20180520T140000
DTSTAMP:20260423T043730
CREATED:20180314T154427Z
LAST-MODIFIED:20180314T154427Z
UID:4401-1526810400-1526824800@www.myfarmersmarket.co.uk
SUMMARY:Chislehurst Farmers Market
DESCRIPTION:
URL:http://www.myfarmersmarket.co.uk/market/chislehurst-farmers-market-13/
LOCATION:Hornbrook House Car Park\, Chislehurst\, High Street\, Cislehurst\, London\, BR7 5AB\, United Kingdom
CATEGORIES:Chislehurst Farmers Market
END:VEVENT
BEGIN:VEVENT
DTSTART;TZID=UTC:20180415T100000
DTEND;TZID=UTC:20180415T140000
DTSTAMP:20260423T043730
CREATED:20180314T153102Z
LAST-MODIFIED:20180314T153102Z
UID:4391-1523786400-1523800800@www.myfarmersmarket.co.uk
SUMMARY:Chislehurst Farmers Market
DESCRIPTION:
URL:http://www.myfarmersmarket.co.uk/market/chislehurst-farmers-market-12/
LOCATION:Hornbrook House Car Park\, Chislehurst\, High Street\, Cislehurst\, London\, BR7 5AB\, United Kingdom
CATEGORIES:Chislehurst Farmers Market
END:VEVENT
BEGIN:VEVENT
DTSTART;TZID=UTC:20170716T100000
DTEND;TZID=UTC:20170716T140000
DTSTAMP:20260423T043730
CREATED:20170319T115756Z
LAST-MODIFIED:20170319T115756Z
UID:4117-1500199200-1500213600@www.myfarmersmarket.co.uk
SUMMARY:Chislehurst Farmers Market
DESCRIPTION:
URL:http://www.myfarmersmarket.co.uk/market/chislehurst-farmers-market-4/
LOCATION:Hornbrook House Car Park\, Chislehurst\, High Street\, Cislehurst\, London\, BR7 5AB\, United Kingdom
CATEGORIES:Chislehurst Farmers Market
END:VEVENT
BEGIN:VEVENT
DTSTART;TZID=UTC:20170618T100000
DTEND;TZID=UTC:20170618T140000
DTSTAMP:20260423T043730
CREATED:20170319T115705Z
LAST-MODIFIED:20170319T115705Z
UID:4115-1497780000-1497794400@www.myfarmersmarket.co.uk
SUMMARY:Chislehurst Farmers Market
DESCRIPTION:
URL:http://www.myfarmersmarket.co.uk/market/chislehurst-farmers-market-3/
CATEGORIES:Chislehurst Farmers Market
END:VEVENT
BEGIN:VEVENT
DTSTART;TZID=UTC:20170521T100000
DTEND;TZID=UTC:20170521T140000
DTSTAMP:20260423T043730
CREATED:20170319T115623Z
LAST-MODIFIED:20170319T115623Z
UID:4113-1495360800-1495375200@www.myfarmersmarket.co.uk
SUMMARY:Chislehurst Farmers Market
DESCRIPTION:
URL:http://www.myfarmersmarket.co.uk/market/chislehurst-farmers-market-2/
LOCATION:Hornbrook House Car Park\, Chislehurst\, High Street\, Cislehurst\, London\, BR7 5AB\, United Kingdom
CATEGORIES:Chislehurst Farmers Market
END:VEVENT
BEGIN:VEVENT
DTSTART;TZID=UTC:20170416T100000
DTEND;TZID=UTC:20170416T140000
DTSTAMP:20260423T043730
CREATED:20170319T115539Z
LAST-MODIFIED:20170319T115539Z
UID:4111-1492336800-1492351200@www.myfarmersmarket.co.uk
SUMMARY:Chislehurst Farmers Market
DESCRIPTION:
URL:http://www.myfarmersmarket.co.uk/market/chislehurst-farmers-market/
LOCATION:Hornbrook House Car Park\, Chislehurst\, High Street\, Cislehurst\, London\, BR7 5AB\, United Kingdom
CATEGORIES:Chislehurst Farmers Market
END:VEVENT
END:VCALENDAR