BEGIN:VCALENDAR
VERSION:2.0
PRODID:-//My Farmers Market - ECPv6.15.12.2//NONSGML v1.0//EN
CALSCALE:GREGORIAN
METHOD:PUBLISH
X-ORIGINAL-URL:http://www.myfarmersmarket.co.uk
X-WR-CALDESC:Events for My Farmers Market
REFRESH-INTERVAL;VALUE=DURATION:PT1H
X-Robots-Tag:noindex
X-PUBLISHED-TTL:PT1H
BEGIN:VTIMEZONE
TZID:UTC
BEGIN:STANDARD
TZOFFSETFROM:+0000
TZOFFSETTO:+0000
TZNAME:UTC
DTSTART:20230101T000000
END:STANDARD
END:VTIMEZONE
BEGIN:VEVENT
DTSTART;TZID=UTC:20240804T100000
DTEND;TZID=UTC:20240804T140000
DTSTAMP:20260423T144708
CREATED:20240229T141313Z
LAST-MODIFIED:20240229T141313Z
UID:7758-1722765600-1722780000@www.myfarmersmarket.co.uk
SUMMARY:Hall Place Bexley Farmers Market
DESCRIPTION:The Courtyard Area\, Hall Place\, Bourne Road\, Bexley\, Kent DA5 1PQ
URL:http://www.myfarmersmarket.co.uk/market/hall-place-bexley-farmers-market-87/
CATEGORIES:Hall Place Bexley Farmers Market
END:VEVENT
BEGIN:VEVENT
DTSTART;TZID=UTC:20240810T100000
DTEND;TZID=UTC:20240810T130000
DTSTAMP:20260423T144708
CREATED:20240229T171747Z
LAST-MODIFIED:20240229T171747Z
UID:7822-1723284000-1723294800@www.myfarmersmarket.co.uk
SUMMARY:Hythe Farmers Market
DESCRIPTION:outside Methodist Church\, Hythe CT21 5BG \nselling our jams\, marmalades and chutneys
URL:http://www.myfarmersmarket.co.uk/market/hythe-farmers-market-63/
CATEGORIES:Hythe Farmers Market
END:VEVENT
BEGIN:VEVENT
DTSTART;TZID=UTC:20240811T090000
DTEND;TZID=UTC:20240811T130000
DTSTAMP:20260423T144708
CREATED:20240229T142730Z
LAST-MODIFIED:20240229T142730Z
UID:7782-1723366800-1723381200@www.myfarmersmarket.co.uk
SUMMARY:Lenham Country Market
DESCRIPTION:Lenham Village Square\, Lenham ME17 2PG
URL:http://www.myfarmersmarket.co.uk/market/lenham-country-market-83/
CATEGORIES:Lenham Country Market
END:VEVENT
BEGIN:VEVENT
DTSTART;TZID=UTC:20240817T100000
DTEND;TZID=UTC:20240817T140000
DTSTAMP:20260423T144708
CREATED:20240229T141921Z
LAST-MODIFIED:20240229T141921Z
UID:7770-1723888800-1723903200@www.myfarmersmarket.co.uk
SUMMARY:Hall Place Bexley Saturday Farmers Market
DESCRIPTION:The Courtyard Area\, Hall Place\, Bourne Road\, Bexley\, Kent DA5 1PQ
URL:http://www.myfarmersmarket.co.uk/market/hall-place-bexley-saturday-farmers-market-30/
CATEGORIES:Hall Place Bexley Farmers Market
END:VEVENT
BEGIN:VEVENT
DTSTART;TZID=UTC:20240818T100000
DTEND;TZID=UTC:20240818T140000
DTSTAMP:20260423T144708
CREATED:20240229T171012Z
LAST-MODIFIED:20240229T171012Z
UID:7808-1723975200-1723989600@www.myfarmersmarket.co.uk
SUMMARY:Chislehurst Farmers Market
DESCRIPTION:Hornbrook House Car Park\, High Street\, Chislehurst BR7 5AB
URL:http://www.myfarmersmarket.co.uk/market/chislehurst-farmers-market-88/
CATEGORIES:Chislehurst Farmers Market
END:VEVENT
BEGIN:VEVENT
DTSTART;TZID=UTC:20240825T093000
DTEND;TZID=UTC:20240825T133000
DTSTAMP:20260423T144708
CREATED:20240229T170302Z
LAST-MODIFIED:20240229T170302Z
UID:7795-1724578200-1724592600@www.myfarmersmarket.co.uk
SUMMARY:West Malling Farmers Market
DESCRIPTION:West Malling Farmers Market\, High Street\, ME19 6NE
URL:http://www.myfarmersmarket.co.uk/market/west-malling-farmers-market-89/
CATEGORIES:West Malling Farmers Market
END:VEVENT
END:VCALENDAR