BEGIN:VCALENDAR
VERSION:2.0
PRODID:-//My Farmers Market - ECPv6.15.12.2//NONSGML v1.0//EN
CALSCALE:GREGORIAN
METHOD:PUBLISH
X-ORIGINAL-URL:http://www.myfarmersmarket.co.uk
X-WR-CALDESC:Events for My Farmers Market
REFRESH-INTERVAL;VALUE=DURATION:PT1H
X-Robots-Tag:noindex
X-PUBLISHED-TTL:PT1H
BEGIN:VTIMEZONE
TZID:UTC
BEGIN:STANDARD
TZOFFSETFROM:+0000
TZOFFSETTO:+0000
TZNAME:UTC
DTSTART:20240101T000000
END:STANDARD
END:VTIMEZONE
BEGIN:VEVENT
DTSTART;TZID=UTC:20251102T100000
DTEND;TZID=UTC:20251102T140000
DTSTAMP:20260424T182054
CREATED:20250804T103631Z
LAST-MODIFIED:20250804T103631Z
UID:8565-1762077600-1762092000@www.myfarmersmarket.co.uk
SUMMARY:Hall Place Bexley Farmers Market
DESCRIPTION:The Courtyard Area\, Hall Place\, Bourne Road\, Bexley\, Kent DA5 1PQ
URL:http://www.myfarmersmarket.co.uk/market/hall-place-bexley-farmers-market-102/
CATEGORIES:Hall Place Bexley Farmers Market
END:VEVENT
BEGIN:VEVENT
DTSTART;TZID=UTC:20251108T100000
DTEND;TZID=UTC:20251108T130000
DTSTAMP:20260424T182054
CREATED:20250804T105710Z
LAST-MODIFIED:20250804T105710Z
UID:8592-1762596000-1762606800@www.myfarmersmarket.co.uk
SUMMARY:Hythe Farmers Market
DESCRIPTION:outside Methodist Church\, Hythe CT21 5BG \nselling our jams\, marmalades and chutneys
URL:http://www.myfarmersmarket.co.uk/market/hythe-farmers-market-77/
CATEGORIES:Hythe Farmers Market
END:VEVENT
BEGIN:VEVENT
DTSTART;TZID=UTC:20251109T090000
DTEND;TZID=UTC:20251109T130000
DTSTAMP:20260424T182054
CREATED:20250804T103942Z
LAST-MODIFIED:20250804T103942Z
UID:8571-1762678800-1762693200@www.myfarmersmarket.co.uk
SUMMARY:Lenham Country Market
DESCRIPTION:Lenham Village Square\, Lenham ME17 2PG
URL:http://www.myfarmersmarket.co.uk/market/lenham-country-market-98/
CATEGORIES:Lenham Country Market
END:VEVENT
BEGIN:VEVENT
DTSTART;TZID=UTC:20251115T100000
DTEND;TZID=UTC:20251115T140000
DTSTAMP:20260424T182054
CREATED:20250804T104505Z
LAST-MODIFIED:20250804T104505Z
UID:8579-1763200800-1763215200@www.myfarmersmarket.co.uk
SUMMARY:Hall Place Bexley Saturday Farmers Market
DESCRIPTION:The Courtyard Area\, Hall Place\, Bourne Road\, Bexley\, Kent DA5 1PQ
URL:http://www.myfarmersmarket.co.uk/market/hall-place-bexley-saturday-farmers-market-45/
CATEGORIES:Hall Place Bexley Farmers Market
END:VEVENT
BEGIN:VEVENT
DTSTART;TZID=UTC:20251116T100000
DTEND;TZID=UTC:20251116T140000
DTSTAMP:20260424T182054
CREATED:20251013T121650Z
LAST-MODIFIED:20251013T121650Z
UID:8710-1763287200-1763301600@www.myfarmersmarket.co.uk
SUMMARY:Chislehurst Farmers Market
DESCRIPTION:Hornbrook House Car Park\, High Street\, Chislehurst BR7 5AB
URL:http://www.myfarmersmarket.co.uk/market/chislehurst-farmers-market-104/
CATEGORIES:Chislehurst Farmers Market
END:VEVENT
BEGIN:VEVENT
DTSTART;TZID=UTC:20251122T100000
DTEND;TZID=UTC:20251122T160000
DTSTAMP:20260424T182054
CREATED:20250804T110025Z
LAST-MODIFIED:20250804T110025Z
UID:8596-1763805600-1763827200@www.myfarmersmarket.co.uk
SUMMARY:Hall Place Bexley Farmers Market - Crafts for Christmas
DESCRIPTION:The Courtyard Area\, Hall Place\, Bourne Road\, Bexley\, Kent DA5 1PQ \nExtra date to support Hall Place Bexley Crafts for Christmas Event 
URL:http://www.myfarmersmarket.co.uk/market/hall-place-bexley-farmers-market-crafts-for-christmas/
CATEGORIES:Hall Place Bexley Farmers Market
END:VEVENT
BEGIN:VEVENT
DTSTART;TZID=UTC:20251123T093000
DTEND;TZID=UTC:20251123T133000
DTSTAMP:20260424T182054
CREATED:20250804T105327Z
LAST-MODIFIED:20250804T105327Z
UID:8586-1763890200-1763904600@www.myfarmersmarket.co.uk
SUMMARY:West Malling Farmers Market
DESCRIPTION:High Street\,  West Malling\, ME19 6NE
URL:http://www.myfarmersmarket.co.uk/market/west-malling-farmers-market-104/
CATEGORIES:West Malling Farmers Market
END:VEVENT
BEGIN:VEVENT
DTSTART;TZID=UTC:20251123T100000
DTEND;TZID=UTC:20251123T160000
DTSTAMP:20260424T182054
CREATED:20250804T110209Z
LAST-MODIFIED:20250804T110209Z
UID:8598-1763892000-1763913600@www.myfarmersmarket.co.uk
SUMMARY:Hall Place Bexley Farmers Market - Crafts for Christmas
DESCRIPTION:The Courtyard Area\, Hall Place\, Bourne Road\, Bexley\, Kent DA5 1PQ \nExtra date supporting the Hall Place Bexley Crafts for Christmas event 
URL:http://www.myfarmersmarket.co.uk/market/hall-place-bexley-farmers-market-crafts-for-christmas-2/
CATEGORIES:Hall Place Bexley Farmers Market
END:VEVENT
END:VCALENDAR