BEGIN:VCALENDAR
VERSION:2.0
PRODID:-//My Farmers Market - ECPv6.15.12.2//NONSGML v1.0//EN
CALSCALE:GREGORIAN
METHOD:PUBLISH
X-ORIGINAL-URL:https://www.myfarmersmarket.co.uk
X-WR-CALDESC:Events for My Farmers Market
REFRESH-INTERVAL;VALUE=DURATION:PT1H
X-Robots-Tag:noindex
X-PUBLISHED-TTL:PT1H
BEGIN:VTIMEZONE
TZID:UTC
BEGIN:STANDARD
TZOFFSETFROM:+0000
TZOFFSETTO:+0000
TZNAME:UTC
DTSTART:20230101T000000
END:STANDARD
END:VTIMEZONE
BEGIN:VEVENT
DTSTART;TZID=UTC:20241124T093000
DTEND;TZID=UTC:20241124T133000
DTSTAMP:20260420T121417
CREATED:20240229T170623Z
LAST-MODIFIED:20240229T170623Z
UID:7802-1732440600-1732455000@www.myfarmersmarket.co.uk
SUMMARY:West Malling Farmers Market
DESCRIPTION:West Malling Farmers Market\, High Street\, ME19 6NE
URL:https://www.myfarmersmarket.co.uk/market/west-malling-farmers-market-92/
CATEGORIES:West Malling Farmers Market
END:VEVENT
END:VCALENDAR