BEGIN:VCALENDAR
VERSION:2.0
PRODID:-//My Farmers Market - ECPv6.15.12.2//NONSGML v1.0//EN
CALSCALE:GREGORIAN
METHOD:PUBLISH
X-ORIGINAL-URL:https://www.myfarmersmarket.co.uk
X-WR-CALDESC:Events for My Farmers Market
REFRESH-INTERVAL;VALUE=DURATION:PT1H
X-Robots-Tag:noindex
X-PUBLISHED-TTL:PT1H
BEGIN:VTIMEZONE
TZID:UTC
BEGIN:STANDARD
TZOFFSETFROM:+0000
TZOFFSETTO:+0000
TZNAME:UTC
DTSTART:20220101T000000
END:STANDARD
END:VTIMEZONE
BEGIN:VEVENT
DTSTART;TZID=UTC:20231210T093000
DTEND;TZID=UTC:20231210T133000
DTSTAMP:20260424T223748
CREATED:20231120T173154Z
LAST-MODIFIED:20231120T173154Z
UID:7459-1702200600-1702215000@www.myfarmersmarket.co.uk
SUMMARY:West Malling Farmers Market
DESCRIPTION:High Street\, West Malling ME19 6NE \nDate moves forward for Christmas only
URL:https://www.myfarmersmarket.co.uk/market/west-malling-farmers-market-81/
CATEGORIES:West Malling Farmers Market
END:VEVENT
END:VCALENDAR